BEGIN:VCALENDAR
VERSION:2.0
PRODID:-//Deep Sound Meditation - ECPv6.15.20//NONSGML v1.0//EN
CALSCALE:GREGORIAN
METHOD:PUBLISH
X-ORIGINAL-URL:https://deepsoundmeditation.org
X-WR-CALDESC:Events for Deep Sound Meditation
REFRESH-INTERVAL;VALUE=DURATION:PT1H
X-Robots-Tag:noindex
X-PUBLISHED-TTL:PT1H
BEGIN:VTIMEZONE
TZID:America/Los_Angeles
BEGIN:DAYLIGHT
TZOFFSETFROM:-0800
TZOFFSETTO:-0700
TZNAME:PDT
DTSTART:20200308T100000
END:DAYLIGHT
BEGIN:STANDARD
TZOFFSETFROM:-0700
TZOFFSETTO:-0800
TZNAME:PST
DTSTART:20201101T090000
END:STANDARD
BEGIN:DAYLIGHT
TZOFFSETFROM:-0800
TZOFFSETTO:-0700
TZNAME:PDT
DTSTART:20210314T100000
END:DAYLIGHT
BEGIN:STANDARD
TZOFFSETFROM:-0700
TZOFFSETTO:-0800
TZNAME:PST
DTSTART:20211107T090000
END:STANDARD
BEGIN:DAYLIGHT
TZOFFSETFROM:-0800
TZOFFSETTO:-0700
TZNAME:PDT
DTSTART:20220313T100000
END:DAYLIGHT
BEGIN:STANDARD
TZOFFSETFROM:-0700
TZOFFSETTO:-0800
TZNAME:PST
DTSTART:20221106T090000
END:STANDARD
BEGIN:DAYLIGHT
TZOFFSETFROM:-0800
TZOFFSETTO:-0700
TZNAME:PDT
DTSTART:20230312T100000
END:DAYLIGHT
BEGIN:STANDARD
TZOFFSETFROM:-0700
TZOFFSETTO:-0800
TZNAME:PST
DTSTART:20231105T090000
END:STANDARD
BEGIN:DAYLIGHT
TZOFFSETFROM:-0800
TZOFFSETTO:-0700
TZNAME:PDT
DTSTART:20240310T100000
END:DAYLIGHT
BEGIN:STANDARD
TZOFFSETFROM:-0700
TZOFFSETTO:-0800
TZNAME:PST
DTSTART:20241103T090000
END:STANDARD
BEGIN:DAYLIGHT
TZOFFSETFROM:-0800
TZOFFSETTO:-0700
TZNAME:PDT
DTSTART:20250309T100000
END:DAYLIGHT
BEGIN:STANDARD
TZOFFSETFROM:-0700
TZOFFSETTO:-0800
TZNAME:PST
DTSTART:20251102T090000
END:STANDARD
END:VTIMEZONE
BEGIN:VEVENT
DTSTART;TZID=America/Los_Angeles:20240603T183000
DTEND;TZID=America/Los_Angeles:20240826T200000
DTSTAMP:20260419T224042
CREATED:20240715T041706Z
LAST-MODIFIED:20240715T041706Z
UID:468-1717439400-1724702400@deepsoundmeditation.org
SUMMARY:Summer Sound Meditation at the Seaside Center for Spiritual Living
DESCRIPTION:Bishwa Seva Foundation\, The Seaside Center and the Deep Sound Meditation welcomes you to our 2024 community sound meditations. Please join us every Monday from June through August at the Seaside Center for Spiritual Living\, Encinitas. \nJoin us this summer for sounds\, vibrations\, wonderful company and an inner journey towards self understanding and peace. Allow the vibrational sounds\, created by our talented musicians\, to resonate with your body and allow your body to transform into a trance state. \nProceeds from the meditation benefit the Bishwa Seva Foundation’s mission of educating and providing meals for Children and other developmental projects in Nepal. \n  \nDates: June 3rd via August 26th. \nVenue: Seaside Center for Spiritual Living.\n1613 Lake Dr\, Encinitas\, CA 92024\nTime : 6:30 p.m. to 8:00 p.m.
URL:https://deepsoundmeditation.org/event/summer-sound-meditation-at-the-seaside-center-for-spiritual-living/
LOCATION:Seaside Center for Spiritual Living\, 1613 Lake Dr\, Encinitas\, 92024\, United States
ATTACH;FMTTYPE=image/png:https://deepsoundmeditation.org/wp-content/uploads/2024/07/1717635971667_163285481672815.png
ORGANIZER;CN="Bishwa Seva Foundation":MAILTO:info@bishwaseva.org
END:VEVENT
BEGIN:VEVENT
DTSTART;TZID=America/Los_Angeles:20230501T183000
DTEND;TZID=America/Los_Angeles:20230501T200000
DTSTAMP:20260419T224042
CREATED:20230122T182317Z
LAST-MODIFIED:20230122T182340Z
UID:459-1682965800-1682971200@deepsoundmeditation.org
SUMMARY:May Sound Meditation at the Seaside Center for Spiritual Living
DESCRIPTION:Bishwa Seva Foundation\, The Seaside Center and the Deep Sound Meditation welcomes you to our 2023 community sound meditations. Please join us the First Mondays of the month from February till May at the Seaside Center for Spiritual Living\, Encinitas. \nProceeds from the meditation benefit the Bishwa Seva Foundation’s mission of educating and providing meals for Children and other developmental projects in Nepal. \n  \nDates: February 6th / March 6th / April 3rd  and May 1st \nVenue: Seaside Center for Spiritual Living.\n1613 Lake Dr\, Encinitas\, CA 92024\nTime : 6:30 p.m. to 8:00 p.m.
URL:https://deepsoundmeditation.org/event/may-sound-meditation-at-the-seaside-center-for-spiritual-living/
LOCATION:Seaside Center for Spiritual Living\, 1613 Lake Dr\, Encinitas\, 92024\, United States
ATTACH;FMTTYPE=image/jpeg:https://deepsoundmeditation.org/wp-content/uploads/2020/08/Village-in-Nepal-1.jpg
ORGANIZER;CN="Bishwa Seva Foundation":MAILTO:info@bishwaseva.org
END:VEVENT
BEGIN:VEVENT
DTSTART;TZID=America/Los_Angeles:20230403T183000
DTEND;TZID=America/Los_Angeles:20230403T200000
DTSTAMP:20260419T224042
CREATED:20230122T182127Z
LAST-MODIFIED:20230122T182331Z
UID:457-1680546600-1680552000@deepsoundmeditation.org
SUMMARY:April Sound Meditation at the Seaside Center for Spiritual Living
DESCRIPTION:Bishwa Seva Foundation\, The Seaside Center and the Deep Sound Meditation welcomes you to our 2023 community sound meditations. Please join us the First Mondays of the month from February till May at the Seaside Center for Spiritual Living\, Encinitas. \nProceeds from the meditation benefit the Bishwa Seva Foundation’s mission of educating and providing meals for Children and other developmental projects in Nepal. \n  \nDates: February 6th / March 6th / April 3rd  and May 1st \nVenue: Seaside Center for Spiritual Living.\n1613 Lake Dr\, Encinitas\, CA 92024\nTime : 6:30 p.m. to 8:00 p.m.
URL:https://deepsoundmeditation.org/event/april-sound-meditation-at-the-seaside-center-for-spiritual-living/
LOCATION:Seaside Center for Spiritual Living\, 1613 Lake Dr\, Encinitas\, 92024\, United States
ATTACH;FMTTYPE=image/jpeg:https://deepsoundmeditation.org/wp-content/uploads/2020/08/Temple-Buddhist-Nepal-1.jpg
ORGANIZER;CN="Bishwa Seva Foundation":MAILTO:info@bishwaseva.org
END:VEVENT
BEGIN:VEVENT
DTSTART;TZID=America/Los_Angeles:20230306T183000
DTEND;TZID=America/Los_Angeles:20230306T200000
DTSTAMP:20260419T224042
CREATED:20230122T181904Z
LAST-MODIFIED:20230122T182406Z
UID:453-1678127400-1678132800@deepsoundmeditation.org
SUMMARY:March Sound Meditation at the Seaside Center for Spiritual Living
DESCRIPTION:Bishwa Seva Foundation\, The Seaside Center and the Deep Sound Meditation welcomes you to our 2023 community sound meditations. Please join us the First Mondays of the month from February till May at the Seaside Center for Spiritual Living\, Encinitas. \nProceeds from the meditation benefit the Bishwa Seva Foundation’s mission of educating and providing meals for Children and other developmental projects in Nepal. \n  \nDates: February 6th / March 6th / April 3rd  and May 1st \nVenue: Seaside Center for Spiritual Living.\n1613 Lake Dr\, Encinitas\, CA 92024\nTime : 6:30 p.m. to 8:00 p.m.
URL:https://deepsoundmeditation.org/event/march-sound-meditation-at-the-seaside-center-for-spiritual-living/
LOCATION:Seaside Center for Spiritual Living\, 1613 Lake Dr\, Encinitas\, 92024\, United States
ATTACH;FMTTYPE=image/jpeg:https://deepsoundmeditation.org/wp-content/uploads/2020/08/Ocean-with-flying-birds-1.jpg
ORGANIZER;CN="Bishwa Seva Foundation":MAILTO:info@bishwaseva.org
END:VEVENT
BEGIN:VEVENT
DTSTART;TZID=America/Los_Angeles:20230206T183000
DTEND;TZID=America/Los_Angeles:20230206T200000
DTSTAMP:20260419T224042
CREATED:20230122T181404Z
LAST-MODIFIED:20230122T182423Z
UID:451-1675708200-1675713600@deepsoundmeditation.org
SUMMARY:February Sound Meditation at the Seaside Center for Spiritual Living
DESCRIPTION:Bishwa Seva Foundation\, The Seaside Center and the Deep Sound Meditation welcomes you to our 2023 community sound meditations. Please join us the First Mondays of the month from February till May at the Seaside Center for Spiritual Living\, Encinitas. \nProceeds from the meditation benefit the Bishwa Seva Foundation’s mission of educating and providing meals for Children and other developmental projects in Nepal. \n  \nDates: February 6th / March 6th / April 3rd  and May 1st \nVenue: Seaside Center for Spiritual Living.\n1613 Lake Dr\, Encinitas\, CA 92024\nTime : 6:30 p.m. to 8:00 p.m.
URL:https://deepsoundmeditation.org/event/sound-meditation-at-the-seaside-center-for-spiritual-living/
LOCATION:Seaside Center for Spiritual Living\, 1613 Lake Dr\, Encinitas\, 92024\, United States
ATTACH;FMTTYPE=image/jpeg:https://deepsoundmeditation.org/wp-content/uploads/2020/08/Temple-Bells-copy-1.jpg
ORGANIZER;CN="Bishwa Seva Foundation":MAILTO:info@bishwaseva.org
END:VEVENT
BEGIN:VEVENT
DTSTART;TZID=America/Los_Angeles:20220613T183000
DTEND;TZID=America/Los_Angeles:20220829T200000
DTSTAMP:20260419T224042
CREATED:20220618T013356Z
LAST-MODIFIED:20220618T013356Z
UID:446-1655145000-1661803200@deepsoundmeditation.org
SUMMARY:Summer Sound Meditation 2020 at Sound Meditation at the Seaside Center for Spiritual Living
DESCRIPTION:Bishwa Seva Foundation along with the Deep Sound Meditation are ready to welcome our community back for our weekly sound meditations. Starting June 13th via August 29th\, 2022 please join us Mondays at the Seaside Center for Spiritual Living\, Encinitas. No meditation on July 4th. \nProceeds from the meditation benefit the Bishwa Seva Foundation’s mission of educating and providing meals for Children and other developmental projects in Nepal. \n  \n 
URL:https://deepsoundmeditation.org/event/summer-sound-meditation-2020-at-sound-meditation-at-the-seaside-center-for-spiritual-living/
LOCATION:Seaside Center for Spiritual Living\, 1613 Lake Dr\, Encinitas\, 92024\, United States
ATTACH;FMTTYPE=image/jpeg:https://deepsoundmeditation.org/wp-content/uploads/2020/08/Singing-Bowls-1.jpg
ORGANIZER;CN="Bishwa Seva Foundation":MAILTO:info@bishwaseva.org
END:VEVENT
BEGIN:VEVENT
DTSTART;TZID=America/Los_Angeles:20211206T180000
DTEND;TZID=America/Los_Angeles:20211206T203000
DTSTAMP:20260419T224042
CREATED:20211113T042647Z
LAST-MODIFIED:20211113T042803Z
UID:441-1638813600-1638822600@deepsoundmeditation.org
SUMMARY:Sound Meditation in December
DESCRIPTION:Join us at the Seaside Center for our last Sound Meditation of the year.
URL:https://deepsoundmeditation.org/event/sound-meditation-in-december/
LOCATION:Seaside Center for Spiritual Living\, 1613 Lake Dr\, Encinitas\, 92024\, United States
ATTACH;FMTTYPE=image/jpeg:https://deepsoundmeditation.org/wp-content/uploads/2020/08/Sound-Meditation.jpg
ORGANIZER;CN="Bishwa Seva Foundation":MAILTO:info@bishwaseva.org
END:VEVENT
END:VCALENDAR