BEGIN:VCALENDAR
VERSION:2.0
PRODID:-//Deep Sound Meditation - ECPv6.15.20//NONSGML v1.0//EN
CALSCALE:GREGORIAN
METHOD:PUBLISH
X-ORIGINAL-URL:https://deepsoundmeditation.org
X-WR-CALDESC:Events for Deep Sound Meditation
REFRESH-INTERVAL;VALUE=DURATION:PT1H
X-Robots-Tag:noindex
X-PUBLISHED-TTL:PT1H
BEGIN:VTIMEZONE
TZID:America/Los_Angeles
BEGIN:DAYLIGHT
TZOFFSETFROM:-0800
TZOFFSETTO:-0700
TZNAME:PDT
DTSTART:20200308T100000
END:DAYLIGHT
BEGIN:STANDARD
TZOFFSETFROM:-0700
TZOFFSETTO:-0800
TZNAME:PST
DTSTART:20201101T090000
END:STANDARD
BEGIN:DAYLIGHT
TZOFFSETFROM:-0800
TZOFFSETTO:-0700
TZNAME:PDT
DTSTART:20210314T100000
END:DAYLIGHT
BEGIN:STANDARD
TZOFFSETFROM:-0700
TZOFFSETTO:-0800
TZNAME:PST
DTSTART:20211107T090000
END:STANDARD
BEGIN:DAYLIGHT
TZOFFSETFROM:-0800
TZOFFSETTO:-0700
TZNAME:PDT
DTSTART:20220313T100000
END:DAYLIGHT
BEGIN:STANDARD
TZOFFSETFROM:-0700
TZOFFSETTO:-0800
TZNAME:PST
DTSTART:20221106T090000
END:STANDARD
BEGIN:DAYLIGHT
TZOFFSETFROM:-0800
TZOFFSETTO:-0700
TZNAME:PDT
DTSTART:20230312T100000
END:DAYLIGHT
BEGIN:STANDARD
TZOFFSETFROM:-0700
TZOFFSETTO:-0800
TZNAME:PST
DTSTART:20231105T090000
END:STANDARD
END:VTIMEZONE
BEGIN:VEVENT
DTSTART;TZID=America/Los_Angeles:20220613T183000
DTEND;TZID=America/Los_Angeles:20220829T200000
DTSTAMP:20260420T001259
CREATED:20220618T013356Z
LAST-MODIFIED:20220618T013356Z
UID:446-1655145000-1661803200@deepsoundmeditation.org
SUMMARY:Summer Sound Meditation 2020 at Sound Meditation at the Seaside Center for Spiritual Living
DESCRIPTION:Bishwa Seva Foundation along with the Deep Sound Meditation are ready to welcome our community back for our weekly sound meditations. Starting June 13th via August 29th\, 2022 please join us Mondays at the Seaside Center for Spiritual Living\, Encinitas. No meditation on July 4th. \nProceeds from the meditation benefit the Bishwa Seva Foundation’s mission of educating and providing meals for Children and other developmental projects in Nepal. \n  \n 
URL:https://deepsoundmeditation.org/event/summer-sound-meditation-2020-at-sound-meditation-at-the-seaside-center-for-spiritual-living/
LOCATION:Seaside Center for Spiritual Living\, 1613 Lake Dr\, Encinitas\, 92024\, United States
ATTACH;FMTTYPE=image/jpeg:https://deepsoundmeditation.org/wp-content/uploads/2020/08/Singing-Bowls-1.jpg
ORGANIZER;CN="Bishwa Seva Foundation":MAILTO:info@bishwaseva.org
END:VEVENT
BEGIN:VEVENT
DTSTART;TZID=America/Los_Angeles:20211206T180000
DTEND;TZID=America/Los_Angeles:20211206T203000
DTSTAMP:20260420T001259
CREATED:20211113T042647Z
LAST-MODIFIED:20211113T042803Z
UID:441-1638813600-1638822600@deepsoundmeditation.org
SUMMARY:Sound Meditation in December
DESCRIPTION:Join us at the Seaside Center for our last Sound Meditation of the year.
URL:https://deepsoundmeditation.org/event/sound-meditation-in-december/
LOCATION:Seaside Center for Spiritual Living\, 1613 Lake Dr\, Encinitas\, 92024\, United States
ATTACH;FMTTYPE=image/jpeg:https://deepsoundmeditation.org/wp-content/uploads/2020/08/Sound-Meditation.jpg
ORGANIZER;CN="Bishwa Seva Foundation":MAILTO:info@bishwaseva.org
END:VEVENT
END:VCALENDAR